BEGIN:VCALENDAR
VERSION:2.0
PRODID:-//eventon.com NONSGML v1.0//EN
CALSCALE:GREGORIAN
METHOD:PUBLISH
BEGIN:VEVENT
UID:69e73ad8aec66
DTSTAMP:20260421T045240
DTSTART:20250327T180000Z
DTEND:20250327T170000Z
TZID:America/Toronto
LOCATION:
SUMMARY:CUCC Annual General Meeting 2025
DESCRIPTION:On March 27\,  2025\,  CUCC members and industry leaders will gather at The Old Mill Toronto for an evening of insights\,  networking\,  and strategic discussions on strengthening Canada-Ukraine economic ties. What to Expect:🔹 Keynote Speaker:&nbsp;Roman Dubczak\,  Deputy Chair at CIBC Capital Markets and Canada’s Representative to the Business Advisory Council[..]\nhttps://cucc.ca/events/cucc-annual-general-meeting-2025/
URL:https://cucc.ca/events/cucc-annual-general-meeting-2025/
END:VEVENT
END:VCALENDAR