BEGIN:VCALENDAR
VERSION:2.0
PRODID:-//eventon.com NONSGML v1.0//EN
CALSCALE:GREGORIAN
METHOD:PUBLISH
BEGIN:VEVENT
UID:69eb7a8ac473e
DTSTAMP:20260424T101330
DTSTART:20251113T090000Z
DTEND:20251114T170000Z
TZID:UTC
LOCATION:
SUMMARY:Приєднуйтесь до офіційної канадської бізнес-делегації на 5-ту Міжнародну виставку та конференцію Rebuild Ukraine\,  що відбудеться у Варшаві\,  Польща 13–14 листопада 2025 року
DESCRIPTION:📢 Запрошуємо канадські компанії! Приєднуйтесь до офіційної канадської бізнес-делегації на 5-ту Міжнародну виставку та конференцію Rebuild Ukraine\,  що відбудеться у Варшаві\,  Польща 13–14 листопада 2025 року. За ініціативи Міністерства природних ресурсів Канади\,  у співпраці з Global Affairs Canada\,  Канадсько-українською торговою палатою та Посольством Канади в Україні\,  ця місія відкриває унікальні[..]\nhttps://cucc.ca/uk/events/%d0%bf%d1%80%d0%b8%d1%94%d0%b4%d0%bd%d1%83%d0%b9%d1%82%d0%b5%d1%81%d1%8c-%d0%b4%d0%be-%d0%be%d1%84%d1%96%d1%86%d1%96%d0%b9%d0%bd%d0%be%d1%97-%d0%ba%d0%b0%d0%bd%d0%b0%d0%b4%d1%81%d1%8c%d0%ba%d0%be/
URL:https://cucc.ca/uk/events/%d0%bf%d1%80%d0%b8%d1%94%d0%b4%d0%bd%d1%83%d0%b9%d1%82%d0%b5%d1%81%d1%8c-%d0%b4%d0%be-%d0%be%d1%84%d1%96%d1%86%d1%96%d0%b9%d0%bd%d0%be%d1%97-%d0%ba%d0%b0%d0%bd%d0%b0%d0%b4%d1%81%d1%8c%d0%ba%d0%be/
END:VEVENT
END:VCALENDAR