BEGIN:VCALENDAR
VERSION:2.0
PRODID:-//eventon.com NONSGML v1.0//EN
CALSCALE:GREGORIAN
METHOD:PUBLISH
BEGIN:VEVENT
UID:69eb7af165e72
DTSTAMP:20260424T101513
DTSTART:20251202T083000Z
DTEND:20251202T143000Z
TZID:America/Toronto
LOCATION:
SUMMARY:IV Щорічна Бізнес-Конференція «Rebuild Ukraine»
DESCRIPTION:Канадсько-українська торгово-промислова палата (CUCC) має честь оголосити про проведення IV Щорічна Бізнес-Конференція «Rebuild Ukraine» — провідної платформи для міжнародної співпраці на підтримку відновлення України. Цьогорічна конференція висвітлить ключову роль співпраці між Канадою\,  Україною\,  ЄС та Великою Британією у процесі довгострокової відбудови\,  економічної модернізації та залучення приватного сектору. Організатори та партнери:🔹[..]\nhttps://cucc.ca/uk/events/iv-%d1%89%d0%be%d1%80%d1%96%d1%87%d0%bd%d0%b0-%d0%b1%d1%96%d0%b7%d0%bd%d0%b5%d1%81-%d0%ba%d0%be%d0%bd%d1%84%d0%b5%d1%80%d0%b5%d0%bd%d1%86%d1%96%d1%8f-rebuild-ukraine/
URL:https://cucc.ca/uk/events/iv-%d1%89%d0%be%d1%80%d1%96%d1%87%d0%bd%d0%b0-%d0%b1%d1%96%d0%b7%d0%bd%d0%b5%d1%81-%d0%ba%d0%be%d0%bd%d1%84%d0%b5%d1%80%d0%b5%d0%bd%d1%86%d1%96%d1%8f-rebuild-ukraine/
END:VEVENT
END:VCALENDAR